BEGIN:VCALENDAR
VERSION:2.0
PRODID:-//Hydro 4 Africa - ECPv6.15.18//NONSGML v1.0//EN
CALSCALE:GREGORIAN
METHOD:PUBLISH
X-WR-CALNAME:Hydro 4 Africa
X-ORIGINAL-URL:https://hydro4africa.net
X-WR-CALDESC:Events for Hydro 4 Africa
REFRESH-INTERVAL;VALUE=DURATION:PT1H
X-Robots-Tag:noindex
X-PUBLISHED-TTL:PT1H
BEGIN:VTIMEZONE
TZID:Europe/Vienna
BEGIN:DAYLIGHT
TZOFFSETFROM:+0100
TZOFFSETTO:+0200
TZNAME:CEST
DTSTART:20220327T010000
END:DAYLIGHT
BEGIN:STANDARD
TZOFFSETFROM:+0200
TZOFFSETTO:+0100
TZNAME:CET
DTSTART:20221030T010000
END:STANDARD
BEGIN:DAYLIGHT
TZOFFSETFROM:+0100
TZOFFSETTO:+0200
TZNAME:CEST
DTSTART:20230326T010000
END:DAYLIGHT
BEGIN:STANDARD
TZOFFSETFROM:+0200
TZOFFSETTO:+0100
TZNAME:CET
DTSTART:20231029T010000
END:STANDARD
BEGIN:DAYLIGHT
TZOFFSETFROM:+0100
TZOFFSETTO:+0200
TZNAME:CEST
DTSTART:20240331T010000
END:DAYLIGHT
BEGIN:STANDARD
TZOFFSETFROM:+0200
TZOFFSETTO:+0100
TZNAME:CET
DTSTART:20241027T010000
END:STANDARD
END:VTIMEZONE
BEGIN:VTIMEZONE
TZID:UTC
BEGIN:STANDARD
TZOFFSETFROM:+0000
TZOFFSETTO:+0000
TZNAME:UTC
DTSTART:20220101T000000
END:STANDARD
END:VTIMEZONE
BEGIN:VTIMEZONE
TZID:Europe/London
BEGIN:DAYLIGHT
TZOFFSETFROM:+0000
TZOFFSETTO:+0100
TZNAME:BST
DTSTART:20220327T010000
END:DAYLIGHT
BEGIN:STANDARD
TZOFFSETFROM:+0100
TZOFFSETTO:+0000
TZNAME:GMT
DTSTART:20221030T010000
END:STANDARD
BEGIN:DAYLIGHT
TZOFFSETFROM:+0000
TZOFFSETTO:+0100
TZNAME:BST
DTSTART:20230326T010000
END:DAYLIGHT
BEGIN:STANDARD
TZOFFSETFROM:+0100
TZOFFSETTO:+0000
TZNAME:GMT
DTSTART:20231029T010000
END:STANDARD
BEGIN:DAYLIGHT
TZOFFSETFROM:+0000
TZOFFSETTO:+0100
TZNAME:BST
DTSTART:20240331T010000
END:DAYLIGHT
BEGIN:STANDARD
TZOFFSETFROM:+0100
TZOFFSETTO:+0000
TZNAME:GMT
DTSTART:20241027T010000
END:STANDARD
END:VTIMEZONE
BEGIN:VEVENT
DTSTART;TZID=Europe/Vienna:20231102T163000
DTEND;TZID=Europe/Vienna:20231102T180000
DTSTAMP:20260421T150403
CREATED:20231014T174731Z
LAST-MODIFIED:20231101T203225Z
UID:84-1698942600-1698948000@hydro4africa.net
SUMMARY:New Approach: Small Hydropower Technical Services for Sustainable Energy in Developing Regions
DESCRIPTION:Side event of the International Vienna Energy & Climate Forum in Vienna.
URL:https://hydro4africa.net/event/new-approach-small-hydropower-technical-services-for-sustainable-energy-in-developing-regions
LOCATION:Hofburg Conference Centre\, Heldenplatz\, Wien\, 1010\, Austria
ORGANIZER;CN="UNIDO":MAILTO:ivecf@unido.org
END:VEVENT
BEGIN:VEVENT
DTSTART;TZID=Europe/Vienna:20231102T113000
DTEND;TZID=Europe/Vienna:20231102T130000
DTSTAMP:20260421T150403
CREATED:20231014T174535Z
LAST-MODIFIED:20231101T203141Z
UID:82-1698924600-1698930000@hydro4africa.net
SUMMARY:Launch of the World Small Hydropower Development Report 2022
DESCRIPTION:As part of the International Vienna Energy & Climate Forum\, UNIDO will launch the 2022 edition of the World Small Hydropower Development Report.
URL:https://hydro4africa.net/event/launch_wshpdr2022
LOCATION:Hofburg Conference Centre\, Heldenplatz\, Wien\, 1010\, Austria
ORGANIZER;CN="UNIDO":MAILTO:ivecf@unido.org
END:VEVENT
BEGIN:VEVENT
DTSTART;VALUE=DATE:20231102
DTEND;VALUE=DATE:20231104
DTSTAMP:20260421T150403
CREATED:20230930T193847Z
LAST-MODIFIED:20230930T193847Z
UID:13-1698883200-1699055999@hydro4africa.net
SUMMARY:International Vienna Energy and Climate Forum
DESCRIPTION:The International Vienna Energy and Climate Forum will gather senior decision-makers\, international experts and other stakeholders on 2 and 3 November 2023 at the Hofburg International Centre in Vienna\, Austria. \nThe two-day event takes place at a critical moment for global climate action and sustainable development. Convening only a few weeks before the United Nations Climate Conference COP 28\, the Forum will provide insightful impulses and practical solutions to best support the global summit. \nGuided by the motto “Progress by Innovation”\, the Energy and Climate Forum will delve into key priorities\, showcase solutions implemented by Governments\, the private sector\, academia and various stakeholders from around the world and highlight the action-oriented steps required to achieve Sustainable Development Goals. Discussions will focus on means to scale up solutions and address challenges\, particularly in Africa. \nAs part of the Forum Solutions Week\, Youth Solution Days on 30 October – 1 November will mobilize the unprecedented power of young women and men to use innovative technologies and drive the energy transition forward by building their skills and competences. Clean Technology Days will highlight cleantech innovation solutions and champion cleantech entrepreneurship. \nTwo specific small hydropower sessions will be held:\n1) New Approach: Small Hydropower Technical Services for Sustainable Energy in Developing Regions (UNIDO)\," which is scheduled for the 2nd of November\, from 5 pm to 6 pm\n2) "Launch of the World Small Hydropower Development Report 2022 and thematic publications on gender\, youth\, and climate" on the 3rd of November\, from 9:45 am to 10:45 am
URL:https://hydro4africa.net/event/ivecf2023
LOCATION:Hofburg Conference Centre\, Heldenplatz\, Wien\, 1010\, Austria
ORGANIZER;CN="UNIDO":MAILTO:ivecf@unido.org
END:VEVENT
BEGIN:VEVENT
DTSTART;VALUE=DATE:20231101
DTEND;VALUE=DATE:20231103
DTSTAMP:20260421T150403
CREATED:20231016T203912Z
LAST-MODIFIED:20231016T203912Z
UID:168-1698796800-1698969599@hydro4africa.net
SUMMARY:Africa Investment Exchange: Power & Renewables 2023
DESCRIPTION:AIX was set up in 2014 to establish an enduring dialogue for investors and energy industry professionals\, with the aim of stimulating business engagement and long- term partnerships. \nAlongside our usual lively mix of panel discussions\, held\, as ever under the Chatham House Rule\, our 2023 programme also includes an afternoon of roundtables focused on Matching finance and projects. \nWe hope they prove to be a useful addition to the AIX format\, which is known for its robust debate and knowledge-led approach. \nAfrica’s evolving power network also assumes a greater significance in this year’s programme with sessions focusing on linking power markets\, the future of wheeling\, financing decentralised energy and a data-led discussion on the growth potential of the C&I sector.
URL:https://hydro4africa.net/event/aix2023
LOCATION:Royal Society of Arts (RSA House)\, 8 John Adam Street\, London\, WC2N 6EZ\, United Kingdom
END:VEVENT
BEGIN:VEVENT
DTSTART;VALUE=DATE:20231031
DTEND;VALUE=DATE:20231103
DTSTAMP:20260421T150403
CREATED:20230930T181003Z
LAST-MODIFIED:20230930T181734Z
UID:6-1698710400-1698969599@hydro4africa.net
SUMMARY:2023 World Hydropower Congress
DESCRIPTION:The 2023 World Hydropower Congress\, taking place in Bali on 31 October – 2 November\, will be a vehicle turning climate ambition into action at the highest level. \nBringing together more than 1\,000 decision makers\, innovators and experts from industry\, governments\, finance\, civil society\, and academia\, it will provide a stage for high-level policy statements\, recommendations and commitments that will influence the global growth of sustainable hydropower. \nWhat will Congress deliver?\nAs the leading global event for decision-makers within and outside the hydropower industry\, the World Hydropower Congress is more than just a platform for discussion. Its deliverables in 2023 will include: \n\nReaching consensus on policy and finance recommendations for advancing the clean energy transition to deliver COP28\nBreaking down barriers to the development of renewables by advancing policy and investment-driven solutions\nDemonstrating how complementary renewable technologies can be harnessed to fast-track the shift away from coal\nHighlighting the immense untapped hydropower potential that exists in many regions of the world\, particularly Asia and Africa\nBusiness and networking opportunities for industry.
URL:https://hydro4africa.net/event/iha2023
LOCATION:Bali Nusa Dua Convention Center\, Kawasan Terpadu ITDC NW/1 Nusa Dua\, Bali\, Indonesia
END:VEVENT
END:VCALENDAR